BEGIN:VCALENDAR
VERSION:2.0
PRODID:-//CONFEDERACIÓN ESPAÑOLA DE AGENCIAS DE VIAJES - ECPv6.15.17.1//NONSGML v1.0//EN
CALSCALE:GREGORIAN
METHOD:PUBLISH
X-ORIGINAL-URL:https://ceav.info
X-WR-CALDESC:Eventos para CONFEDERACIÓN ESPAÑOLA DE AGENCIAS DE VIAJES
REFRESH-INTERVAL;VALUE=DURATION:PT1H
X-Robots-Tag:noindex
X-PUBLISHED-TTL:PT1H
BEGIN:VTIMEZONE
TZID:Europe/Madrid
BEGIN:DAYLIGHT
TZOFFSETFROM:+0100
TZOFFSETTO:+0200
TZNAME:CEST
DTSTART:20250330T010000
END:DAYLIGHT
BEGIN:STANDARD
TZOFFSETFROM:+0200
TZOFFSETTO:+0100
TZNAME:CET
DTSTART:20251026T010000
END:STANDARD
BEGIN:DAYLIGHT
TZOFFSETFROM:+0100
TZOFFSETTO:+0200
TZNAME:CEST
DTSTART:20260329T010000
END:DAYLIGHT
BEGIN:STANDARD
TZOFFSETFROM:+0200
TZOFFSETTO:+0100
TZNAME:CET
DTSTART:20261025T010000
END:STANDARD
BEGIN:DAYLIGHT
TZOFFSETFROM:+0100
TZOFFSETTO:+0200
TZNAME:CEST
DTSTART:20270328T010000
END:DAYLIGHT
BEGIN:STANDARD
TZOFFSETFROM:+0200
TZOFFSETTO:+0100
TZNAME:CET
DTSTART:20271031T010000
END:STANDARD
END:VTIMEZONE
BEGIN:VEVENT
DTSTART;TZID=Europe/Madrid:20261029T183000
DTEND;TZID=Europe/Madrid:20261029T230000
DTSTAMP:20260420T093238
CREATED:20260205T125016Z
LAST-MODIFIED:20260205T125016Z
UID:17333-1793298600-1793314800@ceav.info
SUMMARY:CEAV Protour Bilbao
DESCRIPTION:Último workshop de la gira CEAV Protour 2026 en Bilbao el 29 de octubre. \nEl CEAV Protour 2026 culmina en Bilbao con otro workshop\, una cita en la que agencias de viajes\, profesionales y proveedores se darán encuentro para compartir oportunidades y seguir impulsando el crecimiento del sector. \nUna jornada pensada para el networking\, el intercambio de conocimientos y la conexión con nuevos partners.
URL:https://ceav.info/evento/ceav-protour-bilbao/
LOCATION:Hotel The Artist\, Mazarredo Zumarkalea\, 61\, Bilbao\, Bizkaia\, Spain
CATEGORIES:Workshops
ATTACH;FMTTYPE=image/jpeg:https://ceav.info/wp-content/uploads/sites/12/2026/02/Generica-protour-scaled.jpg
ORGANIZER;CN="CEAV":MAILTO:ceav@ceav.info
END:VEVENT
BEGIN:VEVENT
DTSTART;TZID=Europe/Madrid:20261112T183000
DTEND;TZID=Europe/Madrid:20261112T230000
DTSTAMP:20260420T093238
CREATED:20260205T125250Z
LAST-MODIFIED:20260205T125250Z
UID:17336-1794508200-1794524400@ceav.info
SUMMARY:I Congreso Nacional de Agencias de Viajes
DESCRIPTION:Próximamente\, más información.
URL:https://ceav.info/evento/i-congreso-nacional-de-agencias-de-viajes/
LOCATION:Madrid
CATEGORIES:Workshops
ATTACH;FMTTYPE=image/jpeg:https://ceav.info/wp-content/uploads/sites/12/2026/02/Generica-protour-scaled.jpg
ORGANIZER;CN="CEAV":MAILTO:ceav@ceav.info
END:VEVENT
END:VCALENDAR