BEGIN:VCALENDAR
VERSION:2.0
PRODID:-//CONFEDERACIÓN ESPAÑOLA DE AGENCIAS DE VIAJES - ECPv6.15.17.1//NONSGML v1.0//EN
CALSCALE:GREGORIAN
METHOD:PUBLISH
X-WR-CALNAME:CONFEDERACIÓN ESPAÑOLA DE AGENCIAS DE VIAJES
X-ORIGINAL-URL:https://ceav.info
X-WR-CALDESC:Eventos para CONFEDERACIÓN ESPAÑOLA DE AGENCIAS DE VIAJES
REFRESH-INTERVAL;VALUE=DURATION:PT1H
X-Robots-Tag:noindex
X-PUBLISHED-TTL:PT1H
BEGIN:VTIMEZONE
TZID:Europe/Madrid
BEGIN:DAYLIGHT
TZOFFSETFROM:+0100
TZOFFSETTO:+0200
TZNAME:CEST
DTSTART:20220327T010000
END:DAYLIGHT
BEGIN:STANDARD
TZOFFSETFROM:+0200
TZOFFSETTO:+0100
TZNAME:CET
DTSTART:20221030T010000
END:STANDARD
BEGIN:DAYLIGHT
TZOFFSETFROM:+0100
TZOFFSETTO:+0200
TZNAME:CEST
DTSTART:20230326T010000
END:DAYLIGHT
BEGIN:STANDARD
TZOFFSETFROM:+0200
TZOFFSETTO:+0100
TZNAME:CET
DTSTART:20231029T010000
END:STANDARD
BEGIN:DAYLIGHT
TZOFFSETFROM:+0100
TZOFFSETTO:+0200
TZNAME:CEST
DTSTART:20240331T010000
END:DAYLIGHT
BEGIN:STANDARD
TZOFFSETFROM:+0200
TZOFFSETTO:+0100
TZNAME:CET
DTSTART:20241027T010000
END:STANDARD
BEGIN:DAYLIGHT
TZOFFSETFROM:+0100
TZOFFSETTO:+0200
TZNAME:CEST
DTSTART:20250330T010000
END:DAYLIGHT
BEGIN:STANDARD
TZOFFSETFROM:+0200
TZOFFSETTO:+0100
TZNAME:CET
DTSTART:20251026T010000
END:STANDARD
BEGIN:DAYLIGHT
TZOFFSETFROM:+0100
TZOFFSETTO:+0200
TZNAME:CEST
DTSTART:20260329T010000
END:DAYLIGHT
BEGIN:STANDARD
TZOFFSETFROM:+0200
TZOFFSETTO:+0100
TZNAME:CET
DTSTART:20261025T010000
END:STANDARD
END:VTIMEZONE
BEGIN:VEVENT
DTSTART;TZID=Europe/Madrid:20250403T183000
DTEND;TZID=Europe/Madrid:20250403T230000
DTSTAMP:20260419T225102
CREATED:20250213T095613Z
LAST-MODIFIED:20250213T095613Z
UID:15110-1743705000-1743721200@ceav.info
SUMMARY:CEAV Protour Oporto
DESCRIPTION:Workshop de la gira CEAV Protour 2025 en Oporto el 3 de abril.
URL:https://ceav.info/evento/ceav-protour-oporto/
LOCATION:HF Ipanema Park\, R. de Serralves 124\, 4150-702\, Oporto\, Portugal
CATEGORIES:Workshops
ATTACH;FMTTYPE=image/jpeg:https://ceav.info/wp-content/uploads/sites/12/2025/02/Ceav-Protour-2025.jpeg
ORGANIZER;CN="CEAV":MAILTO:ceav@ceav.info
END:VEVENT
BEGIN:VEVENT
DTSTART;TZID=Europe/Madrid:20250402T183000
DTEND;TZID=Europe/Madrid:20250402T230000
DTSTAMP:20260419T225102
CREATED:20250213T095310Z
LAST-MODIFIED:20250213T095310Z
UID:15106-1743618600-1743634800@ceav.info
SUMMARY:CEAV Protour Vigo
DESCRIPTION:Workshop de la gira CEAV Protour 2025 en Vigo el 2 de abril.
URL:https://ceav.info/evento/ceav-protour-vigo/
LOCATION:Attica 21 Vigo Business&Wellness\, Av. Samil\, 15\,\, Vigo\, Pontevedra\, 36212\, Spain
CATEGORIES:Workshops
ATTACH;FMTTYPE=image/jpeg:https://ceav.info/wp-content/uploads/sites/12/2025/02/Ceav-Protour-2025.jpeg
ORGANIZER;CN="CEAV":MAILTO:ceav@ceav.info
END:VEVENT
BEGIN:VEVENT
DTSTART;TZID=Europe/Madrid:20250306T183000
DTEND;TZID=Europe/Madrid:20250306T230000
DTSTAMP:20260419T225102
CREATED:20250213T094939Z
LAST-MODIFIED:20250213T094939Z
UID:15103-1741285800-1741302000@ceav.info
SUMMARY:CEAV Protour Murcia
DESCRIPTION:Workshop de la gira CEAV Protour 2025 en Murcia el 6 de marzo.
URL:https://ceav.info/evento/ceav-protour-murcia/
LOCATION:Barceló Murcia Siete Coronas\, P.º de Garay\, 5\, Murcia\, Murcia\, 30003
CATEGORIES:Workshops
ATTACH;FMTTYPE=image/jpeg:https://ceav.info/wp-content/uploads/sites/12/2025/02/Ceav-Protour-2025.jpeg
ORGANIZER;CN="CEAV":MAILTO:ceav@ceav.info
END:VEVENT
BEGIN:VEVENT
DTSTART;TZID=Europe/Madrid:20250305T183000
DTEND;TZID=Europe/Madrid:20250305T230000
DTSTAMP:20260419T225102
CREATED:20250213T094543Z
LAST-MODIFIED:20250213T094543Z
UID:15100-1741199400-1741215600@ceav.info
SUMMARY:CEAV Protour Valencia
DESCRIPTION:Workshop de la gira CEAV Protour 2025 en Valencia el 5 de marzo.
URL:https://ceav.info/evento/ceav-protour-valencia/
LOCATION:Novotel Valencia Lavant\, Av. de Pius XII\, 4\, Campanar\, Valencia\, 46009\, Spain
CATEGORIES:Workshops
ATTACH;FMTTYPE=image/jpeg:https://ceav.info/wp-content/uploads/sites/12/2025/02/Ceav-Protour-2025.jpeg
ORGANIZER;CN="CEAV":MAILTO:ceav@ceav.info
END:VEVENT
BEGIN:VEVENT
DTSTART;TZID=Europe/Madrid:20250227T183000
DTEND;TZID=Europe/Madrid:20250227T230000
DTSTAMP:20260419T225102
CREATED:20250213T093700Z
LAST-MODIFIED:20250213T093700Z
UID:15098-1740681000-1740697200@ceav.info
SUMMARY:CEAV PROTOUR Madrid
DESCRIPTION:Workshop de la gira CEAV Protour 2025 en Madrid el 27 de febrero. \n 
URL:https://ceav.info/evento/ceav-protour-madrid/
LOCATION:NH Collection Madrid Eurobuilding\, Padre Damián\, 23\, Madrid\, España
CATEGORIES:Workshops
ATTACH;FMTTYPE=image/jpeg:https://ceav.info/wp-content/uploads/sites/12/2025/02/Ceav-Protour-2025.jpeg
ORGANIZER;CN="CEAV":MAILTO:ceav@ceav.info
END:VEVENT
BEGIN:VEVENT
DTSTART;VALUE=DATE:20241219
DTEND;VALUE=DATE:20241220
DTSTAMP:20260419T225102
CREATED:20240730T093927Z
LAST-MODIFIED:20240813T055634Z
UID:14334-1734566400-1734652799@ceav.info
SUMMARY:CENA DE NAVIDAD CON LA JUNTA DE ANDALUCÍA
DESCRIPTION:Cena de Navidad exclusiva para partners y colaboradores de CEAV. En colaboración con la Junta de Andalucía.  Hotel Intercontinental de Madrid.
URL:https://ceav.info/evento/cena-de-navidad-con-la-junta-de-andalucia/
LOCATION:Hotel Intercontinental\, Paseo de la Castellana\, 49\, Madrid\, Madrid\, 28046\, España
ORGANIZER;CN="CEAV":MAILTO:ceav@ceav.info
END:VEVENT
BEGIN:VEVENT
DTSTART;VALUE=DATE:20241130
DTEND;VALUE=DATE:20241210
DTSTAMP:20260419T225102
CREATED:20240730T093736Z
LAST-MODIFIED:20240813T055826Z
UID:14332-1732924800-1733788799@ceav.info
SUMMARY:VIAJE PROFESIONAL A JAPÓN
DESCRIPTION:30 NOVIEMBRE – 9 DICIEMBRE \nInformación completa
URL:https://ceav.info/evento/viaje-profesional-a-japon/
LOCATION:Granada
ATTACH;FMTTYPE=image/jpeg:https://ceav.info/wp-content/uploads/sites/12/2024/06/japon.jpg
ORGANIZER;CN="CEAV":MAILTO:ceav@ceav.info
END:VEVENT
BEGIN:VEVENT
DTSTART;TZID=Europe/Madrid:20241119T090000
DTEND;TZID=Europe/Madrid:20241120T103000
DTSTAMP:20260419T225102
CREATED:20240730T093418Z
LAST-MODIFIED:20240730T093533Z
UID:14330-1732006800-1732098600@ceav.info
SUMMARY:JUNTA DE CASTILLA Y LEÓN EN BARCELONA
DESCRIPTION:Desayuno profesional para el segmento MICE IBTM de 09:00 a 10:30h. ESPACIO PENDIENTE DE CONFIRMAR
URL:https://ceav.info/evento/junta-de-castilla-y-leon-en-barcelona/
LOCATION:Granada
CATEGORIES:Workshops
END:VEVENT
BEGIN:VEVENT
DTSTART;TZID=Europe/Madrid:20241112T100000
DTEND;TZID=Europe/Madrid:20241112T170000
DTSTAMP:20260419T225102
CREATED:20240830T101432Z
LAST-MODIFIED:20240830T101458Z
UID:14466-1731405600-1731430800@ceav.info
SUMMARY:Primer Encuentro Nacional de Asociaciones de Agencias de Viajes
DESCRIPTION:Más información\, próximamente.
URL:https://ceav.info/evento/primer-encuentro-nacional-de-asociaciones-de-agencias-de-viajes/
LOCATION:Hotel NH Collection Gran Hotel de Zaragoza
END:VEVENT
BEGIN:VEVENT
DTSTART;VALUE=DATE:20241024
DTEND;VALUE=DATE:20241027
DTSTAMP:20260419T225102
CREATED:20240730T084947Z
LAST-MODIFIED:20240730T090212Z
UID:14324-1729728000-1729987199@ceav.info
SUMMARY:49ª EDICIÓN DEL CONGRESO APAVT HUELVA
DESCRIPTION:www.congressoapavt.pt
URL:https://ceav.info/evento/49a-edicion-del-congreso-apavt-huelva/
LOCATION:Granada
ATTACH;FMTTYPE=image/jpeg:https://ceav.info/wp-content/uploads/sites/12/2024/07/apavthuelva.jpg
END:VEVENT
BEGIN:VEVENT
DTSTART;TZID=Europe/Madrid:20241017T183000
DTEND;TZID=Europe/Madrid:20241017T230000
DTSTAMP:20260419T225102
CREATED:20231229T113834Z
LAST-MODIFIED:20240830T100917Z
UID:13606-1729189800-1729206000@ceav.info
SUMMARY:CEAV Protour 2024 Tenerife
DESCRIPTION:Workshop de la gira CEAV Protour 2024 en Tenerife el 17 de octubre.
URL:https://ceav.info/evento/ceav-protour-2024-tenerife/
LOCATION:Hotel Botánico & The Oriental Spa Garden\, Calle Richard J. Yeoward\, 1\,\, Puerto de la Cruz\, Santa Cruz de Tenerife\, 38400
CATEGORIES:Workshops
ATTACH;FMTTYPE=image/jpeg:https://ceav.info/wp-content/uploads/sites/12/2023/12/Protour.jpeg
ORGANIZER;CN="CEAV":MAILTO:ceav@ceav.info
END:VEVENT
BEGIN:VEVENT
DTSTART;TZID=Europe/Madrid:20241016T183000
DTEND;TZID=Europe/Madrid:20241016T230000
DTSTAMP:20260419T225102
CREATED:20231229T113741Z
LAST-MODIFIED:20240830T101144Z
UID:13604-1729103400-1729119600@ceav.info
SUMMARY:CEAV Protour 2024 Las Palmas de Gran Canaria
DESCRIPTION:Workshop de la gira CEAV Protour 2024 en Gran Canaria el 16 de octubre.
URL:https://ceav.info/evento/ceav-protour-2024-las-palmas-de-gran-canaria/
LOCATION:Hotel Santa Catalina\, C. León y Castillo\, 227\, Las Palmas de Gran Canaria\, 35005
CATEGORIES:Workshops
ATTACH;FMTTYPE=image/jpeg:https://ceav.info/wp-content/uploads/sites/12/2023/12/Protour.jpeg
ORGANIZER;CN="CEAV":MAILTO:ceav@ceav.info
END:VEVENT
BEGIN:VEVENT
DTSTART;TZID=Europe/Madrid:20241010T200000
DTEND;TZID=Europe/Madrid:20241010T230000
DTSTAMP:20260419T225102
CREATED:20240730T084753Z
LAST-MODIFIED:20240813T060742Z
UID:14322-1728590400-1728601200@ceav.info
SUMMARY:GALA DE LOS DISTINTIVOS TURÍSTICOS MATILDE TORRES Y VICENTE BLASCO
DESCRIPTION:CEAV hará entrega de del XII Distintivo Matilde Torres y el VII Vicente Blasco en Madrid el día 10 de octubre.
URL:https://ceav.info/evento/gala-de-los-premios-mt-vb-madrid/
LOCATION:NH Collection Madrid Eurobuilding\, Padre Damián\, 23\, Madrid\, España
CATEGORIES:Workshops
ATTACH;FMTTYPE=image/jpeg:https://ceav.info/wp-content/uploads/sites/12/2024/07/premiosmtvb.jpg
ORGANIZER;CN="CEAV":MAILTO:ceav@ceav.info
END:VEVENT
BEGIN:VEVENT
DTSTART;VALUE=DATE:20241002
DTEND;VALUE=DATE:20241006
DTSTAMP:20260419T225102
CREATED:20240730T084327Z
LAST-MODIFIED:20240813T061457Z
UID:14319-1727827200-1728172799@ceav.info
SUMMARY:JORNADAS TÉCNICAS EN RABAT
DESCRIPTION:CEAV celebra este año en Rabat sus Jornadas Técnicas del 2 al 5 de octubre. \nEl programa es exclusivo para agentes de viajes y las plazas son limitadas. \nInformación e inscripciones
URL:https://ceav.info/evento/jornadas-tecnicas-marruecos-rabat/
LOCATION:Granada
ATTACH;FMTTYPE=image/jpeg:https://ceav.info/wp-content/uploads/sites/12/2024/07/rabat.jpg
ORGANIZER;CN="CEAV":MAILTO:ceav@ceav.info
END:VEVENT
BEGIN:VEVENT
DTSTART;TZID=Europe/Madrid:20240926T183000
DTEND;TZID=Europe/Madrid:20240926T230000
DTSTAMP:20260419T225102
CREATED:20231229T113640Z
LAST-MODIFIED:20240813T061840Z
UID:13602-1727375400-1727391600@ceav.info
SUMMARY:CEAV Protour 2024 Valladolid
DESCRIPTION:Workshop de la gira CEAV Protour 2024 en Valladolid el 26 de septiembre.
URL:https://ceav.info/evento/ceav-protour-2024-valladolid/
LOCATION:Hotel Ciudad de Valladolid\, Av. Ramón Pradera\, 10-12\, Valladolid\, España
CATEGORIES:Workshops
ATTACH;FMTTYPE=image/jpeg:https://ceav.info/wp-content/uploads/sites/12/2023/12/Protour.jpeg
ORGANIZER;CN="CEAV":MAILTO:ceav@ceav.info
END:VEVENT
BEGIN:VEVENT
DTSTART;TZID=Europe/Madrid:20240925T133000
DTEND;TZID=Europe/Madrid:20240925T163000
DTSTAMP:20260419T225102
CREATED:20240730T083716Z
LAST-MODIFIED:20240730T083716Z
UID:14316-1727271000-1727281800@ceav.info
SUMMARY:CATA CENTROAMÉRICA
DESCRIPTION:ENCUENTRO PROFESIONAL EN AULA CEAV\nDE 13.30 A 16.30 H.
URL:https://ceav.info/evento/cata-centroamerica/
LOCATION:Granada
ATTACH;FMTTYPE=image/jpeg:https://ceav.info/wp-content/uploads/sites/12/2024/07/MUNDO-INEDITO_Verano24-98.jpg
ORGANIZER;CN="CEAV":MAILTO:ceav@ceav.info
END:VEVENT
BEGIN:VEVENT
DTSTART;VALUE=DATE:20240911
DTEND;VALUE=DATE:20240916
DTSTAMP:20260419T225102
CREATED:20240730T082734Z
LAST-MODIFIED:20240730T082734Z
UID:14313-1726012800-1726444799@ceav.info
SUMMARY:PRIMER FAM TRIP A MARRUECOS
DESCRIPTION:CIUDAD DE LA LUZ\, CAPITAL CULTURAL DEL REINO
URL:https://ceav.info/evento/primer-fam-trip-a-marruecos/
LOCATION:Granada
CATEGORIES:Workshops
ATTACH;FMTTYPE=image/jpeg:https://ceav.info/wp-content/uploads/sites/12/2024/07/marruecosceav.jpg
ORGANIZER;CN="CEAV":MAILTO:ceav@ceav.info
END:VEVENT
BEGIN:VEVENT
DTSTART;TZID=Europe/Madrid:20240606T183000
DTEND;TZID=Europe/Madrid:20240606T230000
DTSTAMP:20260419T225102
CREATED:20231229T113526Z
LAST-MODIFIED:20231229T113526Z
UID:13600-1717698600-1717714800@ceav.info
SUMMARY:CEAV Protour 2024 A Coruña
DESCRIPTION:Más información\, próximamente
URL:https://ceav.info/evento/ceav-protour-2024-a-coruna/
LOCATION:Granada
CATEGORIES:Workshops
ATTACH;FMTTYPE=image/jpeg:https://ceav.info/wp-content/uploads/sites/12/2023/12/Protour.jpeg
ORGANIZER;CN="CEAV":MAILTO:ceav@ceav.info
END:VEVENT
BEGIN:VEVENT
DTSTART;TZID=Europe/Madrid:20240509T183000
DTEND;TZID=Europe/Madrid:20240509T230000
DTSTAMP:20260419T225102
CREATED:20231229T113350Z
LAST-MODIFIED:20240422T100354Z
UID:13598-1715279400-1715295600@ceav.info
SUMMARY:CEAV Protour 2024 Málaga
DESCRIPTION:Te esperamos el 9 de mayo en Málaga\, donde\, CEAV\, la Federación Andaluza de Agentes de Viajes y más de 40 expositores turísticos te invitan a compartir una exclusiva jornada profesional y lúdica en la que podrás contactar con destinos internacionales\, nacionales\, compañías aéreas y muchos  proveedores turísticos de asistencia en viaje\, transporte terrestre y servicios turísticos -ocio.
URL:https://ceav.info/evento/ceav-protour-2024-malaga/
LOCATION:NH Málaga\, C. San Jacinto\, 2\, Distrito Centro\, Málaga\, Málaga\, 29007
CATEGORIES:Workshops
ATTACH;FMTTYPE=image/jpeg:https://ceav.info/wp-content/uploads/sites/12/2023/12/Malaga.jpg
ORGANIZER;CN="CEAV":MAILTO:ceav@ceav.info
END:VEVENT
BEGIN:VEVENT
DTSTART;TZID=Europe/Madrid:20240508T183000
DTEND;TZID=Europe/Madrid:20240508T230000
DTSTAMP:20260419T225102
CREATED:20231229T113153Z
LAST-MODIFIED:20240422T095958Z
UID:13596-1715193000-1715209200@ceav.info
SUMMARY:CEAV Protour 2024 Sevilla
DESCRIPTION:Te esperamos el 8 de mayo en Sevilla\, donde\, CEAV\, la Federación Andaluza de Agentes de Viajes y más de 40 expositores turísticos te invitan a compartir una exclusiva jornada profesional y lúdica en la que podrás contactar con destinos internacionales\, nacionales\, compañías aéreas y muchos  proveedores turísticos de asistencia en viaje\, transporte terrestre y servicios turísticos -ocio.
URL:https://ceav.info/evento/ceav-protour-2024-sevilla/
LOCATION:Hotel NH Plaza de Armas\, C. Marqués de Paradas\, 13\, Casco Antiguo\, Sevilla\, Sevilla\, 41001\, España
CATEGORIES:Workshops
ATTACH;FMTTYPE=image/jpeg:https://ceav.info/wp-content/uploads/sites/12/2023/12/Sevilla.jpg
ORGANIZER;CN="CEAV":MAILTO:ceav@ceav.info
END:VEVENT
BEGIN:VEVENT
DTSTART;TZID=Europe/Madrid:20240425T130000
DTEND;TZID=Europe/Madrid:20240425T163000
DTSTAMP:20260419T225102
CREATED:20231229T113011Z
LAST-MODIFIED:20240422T094707Z
UID:13594-1714050000-1714062600@ceav.info
SUMMARY:CEAV Protour 2024 Alicante
DESCRIPTION:El día 25 de abril\, a partir de las 13.00 horas\, te invitamos al workshop que tendrá lugar en el hotel Meliá de Alicante con más de 40 expositores. \n¡Estancias\, billetes de avión y un SUPER VIAJE A MARRUECOS con la obtención del pasaporte CeavProtour que te entregaremos a tu llegada!
URL:https://ceav.info/evento/ceav-protour-2024-alicante/
LOCATION:Hotel Melia Alicante\, Pl. Prta del Mar\, 3\,\, Alicante\, Alicante\, 03001
CATEGORIES:Workshops
ATTACH;FMTTYPE=image/jpeg:https://ceav.info/wp-content/uploads/sites/12/2023/12/Protour.jpeg
ORGANIZER;CN="CEAV":MAILTO:ceav@ceav.info
END:VEVENT
BEGIN:VEVENT
DTSTART;TZID=Europe/Madrid:20240424T190000
DTEND;TZID=Europe/Madrid:20240424T230000
DTSTAMP:20260419T225102
CREATED:20231229T112841Z
LAST-MODIFIED:20240422T094311Z
UID:13592-1713985200-1713999600@ceav.info
SUMMARY:CEAV Protour 2024 Valencia
DESCRIPTION:El día 24 de abril\, a partir de las 19.00 horas\, te invitamos al workshop que tendrá lugar en el hotel Primus de Valencia con más de 40 expositores. \n¡Estancias\, billetes de avión y un SUPER VIAJE A MARRUECOS con la obtención del pasaporte CeavProtour que te entregaremos a tu llegada!
URL:https://ceav.info/evento/ceav-protour-2024-valencia/
LOCATION:Hotel Primus\, C/ de Menorca\, 22\, Camins al Grau\, 46023 València\,\, Valencia\, Valencia\, España
CATEGORIES:Workshops
ATTACH;FMTTYPE=image/jpeg:https://ceav.info/wp-content/uploads/sites/12/2023/12/Protour.jpeg
ORGANIZER;CN="CEAV":MAILTO:ceav@ceav.info
END:VEVENT
BEGIN:VEVENT
DTSTART;TZID=Europe/Madrid:20240306T193000
DTEND;TZID=Europe/Madrid:20240306T230000
DTSTAMP:20260419T225102
CREATED:20231229T112426Z
LAST-MODIFIED:20240220T121749Z
UID:13589-1709753400-1709766000@ceav.info
SUMMARY:CEAV Protour 2024 - Bilbao 6 de marzo
DESCRIPTION:CEAV PROTOUR 2024 inicia su tour 2024 en BILBAO el próximo miércoles día 6 de marzo en el GRAN HOTEL DOMINE A LAS 19.30H \nSi eres agente de viaje\, turoperador o empresa turística\, no debes faltar a esta cita profesional\, totalmente gratuita\, que te aportará: \n\nConocimiento de las novedades de los 30 expositores turísticos.\nContactos necesarios para tu agencia de viajes.\nParticipar en el sorteo de magníficos premios para gratificar tu asistencia.\nDisfrutar de un cóctel networking entre compañeros y compartir una estupenda velada.
URL:https://ceav.info/evento/ceav-protour-2024-bilbao/
LOCATION:Gran Hotel Domine\, Mazarredo Zumarkalea\, 61\, Bilbao\, Vizcaya\, 48009\, España
CATEGORIES:Workshops
ATTACH;FMTTYPE=image/jpeg:https://ceav.info/wp-content/uploads/sites/12/2023/12/Bilbao.jpg
ORGANIZER;CN="CEAV":MAILTO:ceav@ceav.info
END:VEVENT
BEGIN:VEVENT
DTSTART;TZID=Europe/Madrid:20240124T100000
DTEND;TZID=Europe/Madrid:20240128T170000
DTSTAMP:20260419T225102
CREATED:20231229T110918Z
LAST-MODIFIED:20231229T110918Z
UID:13584-1706090400-1706461200@ceav.info
SUMMARY:FITUR
DESCRIPTION:CEAV participa en FITUR 2024 con su espacio b2b CEAV para la celebración de reuniones de negocio entre los agentes de viajes y los proveedores de la industria turística presentes en la feria. La confederación cuenta con un stand en el pabellón 10 donde\, además de las reuniones y contactos\, se celebrará el tradicional Welcome to FITUR y se realizarán diversas presentaciones.
URL:https://ceav.info/evento/fitur/
LOCATION:IFEMA\, Av. del Partenón\, 5\, Barajas\, Madrid\, Madrid\, 28042
CATEGORIES:FITUR
ATTACH;FMTTYPE=image/png:https://ceav.info/wp-content/uploads/sites/12/2023/12/logo-fitur.png
END:VEVENT
BEGIN:VEVENT
DTSTART;TZID=Europe/Madrid:20231108T190000
DTEND;TZID=Europe/Madrid:20231110T230000
DTSTAMP:20260419T225102
CREATED:20230724T114536Z
LAST-MODIFIED:20230724T114536Z
UID:12572-1699470000-1699657200@ceav.info
SUMMARY:7ª Cumbre Mundial de Asociaciones de Agencias de Viajes
DESCRIPTION:Encuentro que CEAV organiza cada dos y que reúne a más de 100 asociaciones de viajes de ámbito nacional e internacional. Durante estos días\, se llevarán a cabo diversas ponencias y debates con el objetivo de seguir siendo el foro de intercambio mundial de experiencias en el que se dialogue y debata\, a nivel global\, sobre los aspectos fundamentales del sector. \nAdemás de las distintas conferencias y mesas redondas\, el evento organizará\, en paralelo\, un programa de visitas a los lugares más emblemáticos de la capital y la provincia de Granda. La cita constituye así una oportunidad para que los asistentes descubran uno de los destinos turísticos de España.
URL:https://ceav.info/evento/7a-cumbre-mundial-de-asociaciones-de-agencias-de-viajes/
LOCATION:Granada\, Granada\, Granada\, España
CATEGORIES:Cumbre mundial
ATTACH;FMTTYPE=image/jpeg:https://ceav.info/wp-content/uploads/sites/12/2023/05/Alhambra.jpg
END:VEVENT
BEGIN:VEVENT
DTSTART;TZID=Europe/Madrid:20231019T133000
DTEND;TZID=Europe/Madrid:20231019T153000
DTSTAMP:20260419T225102
CREATED:20230918T080139Z
LAST-MODIFIED:20230918T080139Z
UID:12832-1697722200-1697729400@ceav.info
SUMMARY:Evento Saborea España
DESCRIPTION:
URL:https://ceav.info/evento/evento-saborea-espana/
LOCATION:Granada
CATEGORIES:Formaciones
ATTACH;FMTTYPE=image/png:https://ceav.info/wp-content/uploads/sites/12/2023/09/Saborea-Espana-logo.png
ORGANIZER;CN="CEAV":MAILTO:ceav@ceav.info
END:VEVENT
BEGIN:VEVENT
DTSTART;TZID=Europe/Madrid:20231005T193000
DTEND;TZID=Europe/Madrid:20231005T230000
DTSTAMP:20260419T225102
CREATED:20230724T113754Z
LAST-MODIFIED:20230724T113846Z
UID:12565-1696534200-1696546800@ceav.info
SUMMARY:CEAV Protour 2023 – Valladolid 5 de octubre
DESCRIPTION:
URL:https://ceav.info/evento/ceav-protour-2023-valladolid-5-de-octubre/
LOCATION:Hotel AC Casa Palacio Santa Ana\, Hotel AC Casa Palacio Santa Ana\, Valladolid\, España
CATEGORIES:Workshops
ATTACH;FMTTYPE=image/jpeg:https://ceav.info/wp-content/uploads/sites/12/2023/07/ceav-protour2023-valladolid-hotel.jpg
ORGANIZER;CN="CEAV":MAILTO:ceav@ceav.info
END:VEVENT
BEGIN:VEVENT
DTSTART;TZID=Europe/Madrid:20230920T183000
DTEND;TZID=Europe/Madrid:20230920T230000
DTSTAMP:20260419T225102
CREATED:20230724T115309Z
LAST-MODIFIED:20230918T073702Z
UID:12576-1695234600-1695250800@ceav.info
SUMMARY:III Travel Meeting Red de Ciudades AVE
DESCRIPTION:Foro y encuentro en el que agencias de viajes podrán conocer de primera mano las novedades de los destinos integrantes de la red de Ciudades AVE
URL:https://ceav.info/evento/ii-travel-meeting-red-de-ciudades-ave/
LOCATION:Museo del Ferrocarril\, Paseo de las Delicias\, 61\, Madrid\, España
CATEGORIES:Workshops
ATTACH;FMTTYPE=image/jpeg:https://ceav.info/wp-content/uploads/sites/12/2023/07/IIITravelMeeting-2023_Programa_page-0001.jpg
ORGANIZER;CN="CEAV":MAILTO:ceav@ceav.info
END:VEVENT
BEGIN:VEVENT
DTSTART;TZID=Europe/Madrid:20230608T193000
DTEND;TZID=Europe/Madrid:20230608T230000
DTSTAMP:20260419T225103
CREATED:20230505T102637Z
LAST-MODIFIED:20230505T103855Z
UID:12322-1686252600-1686265200@ceav.info
SUMMARY:CEAV Protour 2023 – A Coruña 8 de junio
DESCRIPTION:
URL:https://ceav.info/evento/ceav-protour-2023-a-coruna-8-de-junio/
LOCATION:Hotel NH Collection Finisterre\, Praza Parrote\, 2-4\,\, A Coruña\, A Coruña\, 15001\, España
CATEGORIES:Workshops
ATTACH;FMTTYPE=image/jpeg:https://ceav.info/wp-content/uploads/sites/12/2023/05/Workshop-A-Coruna.jpg
ORGANIZER;CN="CEAV":MAILTO:ceav@ceav.info
END:VEVENT
BEGIN:VEVENT
DTSTART;TZID=Europe/Madrid:20230511T140000
DTEND;TZID=Europe/Madrid:20230511T160000
DTSTAMP:20260419T225103
CREATED:20230505T105245Z
LAST-MODIFIED:20230505T105657Z
UID:12352-1683813600-1683820800@ceav.info
SUMMARY:Presentación Welcome drink AVIANCA
DESCRIPTION:Aforo limitado. Asistencia con confirmación de plaza previa a través de ceav@ceav.info
URL:https://ceav.info/evento/presentacion-welcome-drink-avianca/
LOCATION:CEAV\, Diego de León\, 47\, Madrid\, Madrid\, 28006\, España
ATTACH;FMTTYPE=image/jpeg:https://ceav.info/wp-content/uploads/sites/12/2023/05/Presentacion-AVIANCA-scaled.jpg
ORGANIZER;CN="CEAV":MAILTO:ceav@ceav.info
END:VEVENT
END:VCALENDAR